BEGIN:VCALENDAR
VERSION:2.0
PRODID:-//Tarangini - ECPv6.15.20//NONSGML v1.0//EN
CALSCALE:GREGORIAN
METHOD:PUBLISH
X-ORIGINAL-URL:https://www.tarangini.org
X-WR-CALDESC:Events for Tarangini
REFRESH-INTERVAL;VALUE=DURATION:PT1H
X-Robots-Tag:noindex
X-PUBLISHED-TTL:PT1H
BEGIN:VTIMEZONE
TZID:America/New_York
BEGIN:DAYLIGHT
TZOFFSETFROM:-0500
TZOFFSETTO:-0400
TZNAME:EDT
DTSTART:20180311T070000
END:DAYLIGHT
BEGIN:STANDARD
TZOFFSETFROM:-0400
TZOFFSETTO:-0500
TZNAME:EST
DTSTART:20181104T060000
END:STANDARD
BEGIN:DAYLIGHT
TZOFFSETFROM:-0500
TZOFFSETTO:-0400
TZNAME:EDT
DTSTART:20190310T070000
END:DAYLIGHT
BEGIN:STANDARD
TZOFFSETFROM:-0400
TZOFFSETTO:-0500
TZNAME:EST
DTSTART:20191103T060000
END:STANDARD
BEGIN:DAYLIGHT
TZOFFSETFROM:-0500
TZOFFSETTO:-0400
TZNAME:EDT
DTSTART:20200308T070000
END:DAYLIGHT
BEGIN:STANDARD
TZOFFSETFROM:-0400
TZOFFSETTO:-0500
TZNAME:EST
DTSTART:20201101T060000
END:STANDARD
END:VTIMEZONE
BEGIN:VEVENT
DTSTART;TZID=America/New_York:20190511T130000
DTEND;TZID=America/New_York:20190511T220000
DTSTAMP:20260424T105636
CREATED:20190308T185331Z
LAST-MODIFIED:20190503T030149Z
UID:10000006-1557579600-1557612000@www.tarangini.org
SUMMARY:2019 Ugadi Celebrations!!
DESCRIPTION:తరంగిణి ఉగాది వేడుకలకు స్వాగతం! \n\n\n\nTarangini is excited to announce our most awaited 2019 Ugadi event.You are cordially invited to an evening of enchanting cultural programs & authentic Indian food.  \n\n\n\n\n\nఅందరిని అలరించే సాంస్కృతిక కార్యక్రమాలతో\, నోరూరించే వంటకాలతో\, మరెన్నో విశేషాలతో\, మీ ముందుకి వస్తుంది ఈ ఉగాది వేడుక.  షడ్రుచులలోని తీపి\, నవరసాలలోని సంతోషం ఈ వికారి నామ సంవత్సరం మీకు అందించాలని కోరుకుంటూ\, తరంగిణి నిర్వహిస్తున్న ఉగాది వేడుకలకు మీకిదే మా హౄదయపూర్వక  ఆహ్వానం. \n\n\n\n\n\n\n\nNew / Renew Membership\n\n\n\n\n\n\n\n\n\n\n\nTickets\n\n\n\n\n\nMember Tickets\n\n\n\n\n\nNon Member Tickets\n\n\n\n\n\n\n\n\n\nSponsor Event\n\n\n\n You have the brand. We have the audience. Sponsor one or both events.  \n\n\n\n \n\n\n\n\n\n\n\nSetup Vendor Booth\n\n\n\n  Are you looking for a platform to market your items or services? We have the space to accommodate your booth.   \n\n\n\n \n\n\n\n\n\n\n\nVolunteer\n\n\n\n\n\n\n\n\n\nAs always we are looking for volunteers to lend us a helping hand in both event planning and event day execution. No help is too small. Click here \n\n\n\nVolunteer\n\n\n\n\n\n\n\nTelugu Velugu magazine published twice a year showcases articles written by local community members highlighting importance of culture\, festivals and literature as well as information about the event.   \n\n\n\nPlease send your articles to info@tarangini.org
URL:https://www.tarangini.org/event/2019-ugadi/
LOCATION:Ross High School\, 3601 Hamilton Cleves Rd\, Hamilton\, OH\, 45013
CATEGORIES:Cultural,featured
ATTACH;FMTTYPE=image/jpeg:https://www.tarangini.org/wp-content/uploads/2019/04/Ugadi-Poster.jpg
END:VEVENT
BEGIN:VEVENT
DTSTART;TZID=America/New_York:20190413T100000
DTEND;TZID=America/New_York:20190413T150000
DTSTAMP:20260424T105636
CREATED:20190308T183650Z
LAST-MODIFIED:20190429T231237Z
UID:10000001-1555149600-1555167600@www.tarangini.org
SUMMARY:Sri Rama Navami Celebrations
DESCRIPTION:2019 Sri Rama Navami Pictures\n\n\n\nశ్రీ  సీతారాముల  కళ్యాణ  మహోత్సవానికి  మీరందరూ  సకుంటుంబ  సపరివార  సమేతంగా  విచ్చేసి\,  కళ్యాణోత్సవాన్ని  జయప్రదం  గావించి\,  సీతారాముల  అనుగ్రహమునకు  పాత్రులు  కావాలని  కోరుకుంటున్నాము. \n\n\n\n\n\n\n\nYou are cordially invited with your family and friends to attend the Divine Sri Sita Rama Kalyana Mahotsavam  and make the auspicious event a grand success. Muhurtham starts @ 10am on \n\n\n\n\n\n\n\nPlease sponsor and/or volunteer for the celebrations.  \n\n\n\nSponsor\n\n\n\nWe are looking for grand sponsors (couples) to perform the Kalyanam on behalf of the bride (Sita) and groom (Rama). \n\n\n\nFood Signup / Volunteer\n\n\n\nWe are also in need of volunteers to help with event activities and bring in food to share with all the devotees.
URL:https://www.tarangini.org/event/2019-sri-rama-navami/
LOCATION:Hindu Temple of Greater Cinicnnati\, 720 Barg Salt Run Rd\, Cincinnati\, OH\, 45244
CATEGORIES:Cultural,featured,Tarangini
ATTACH;FMTTYPE=image/jpeg:https://www.tarangini.org/wp-content/uploads/2019/03/2019-SriRamaNavami-Poster.jpg
END:VEVENT
BEGIN:VEVENT
DTSTART;TZID=America/New_York:20190309T080000
DTEND;TZID=America/New_York:20190309T150000
DTSTAMP:20260424T105636
CREATED:20190308T162429Z
LAST-MODIFIED:20190308T183307Z
UID:10000005-1552118400-1552143600@www.tarangini.org
SUMMARY:2019 Tarangini Winter Games
DESCRIPTION:
URL:https://www.tarangini.org/event/2019-tarangini-winter-games/
CATEGORIES:Sports,Tarangini
ATTACH;FMTTYPE=image/jpeg:https://www.tarangini.org/wp-content/uploads/2019/03/2019-Winter-Games-1.jpg
END:VEVENT
BEGIN:VEVENT
DTSTART;TZID=America/New_York:20190126T100000
DTEND;TZID=America/New_York:20190126T120000
DTSTAMP:20260424T105636
CREATED:20190308T190901Z
LAST-MODIFIED:20190308T211119Z
UID:10000007-1548496800-1548504000@www.tarangini.org
SUMMARY:2019 Sub Committee Meeting
DESCRIPTION:
URL:https://www.tarangini.org/event/2019-sub-committee-meeting/
LOCATION:Jain Center of Cincinnati Dayton\, 6798 Cincinnati Dayton Rd\, Liberty Township\, Ohio\, 45044\, United States
END:VEVENT
END:VCALENDAR