BEGIN:VCALENDAR
VERSION:2.0
PRODID:-//Tarangini - ECPv6.15.20//NONSGML v1.0//EN
CALSCALE:GREGORIAN
METHOD:PUBLISH
X-WR-CALNAME:Tarangini
X-ORIGINAL-URL:https://www.tarangini.org
X-WR-CALDESC:Events for Tarangini
REFRESH-INTERVAL;VALUE=DURATION:PT1H
X-Robots-Tag:noindex
X-PUBLISHED-TTL:PT1H
BEGIN:VTIMEZONE
TZID:America/New_York
BEGIN:DAYLIGHT
TZOFFSETFROM:-0500
TZOFFSETTO:-0400
TZNAME:EDT
DTSTART:20190310T070000
END:DAYLIGHT
BEGIN:STANDARD
TZOFFSETFROM:-0400
TZOFFSETTO:-0500
TZNAME:EST
DTSTART:20191103T060000
END:STANDARD
BEGIN:DAYLIGHT
TZOFFSETFROM:-0500
TZOFFSETTO:-0400
TZNAME:EDT
DTSTART:20200308T070000
END:DAYLIGHT
BEGIN:STANDARD
TZOFFSETFROM:-0400
TZOFFSETTO:-0500
TZNAME:EST
DTSTART:20201101T060000
END:STANDARD
BEGIN:DAYLIGHT
TZOFFSETFROM:-0500
TZOFFSETTO:-0400
TZNAME:EDT
DTSTART:20210314T070000
END:DAYLIGHT
BEGIN:STANDARD
TZOFFSETFROM:-0400
TZOFFSETTO:-0500
TZNAME:EST
DTSTART:20211107T060000
END:STANDARD
BEGIN:DAYLIGHT
TZOFFSETFROM:-0500
TZOFFSETTO:-0400
TZNAME:EDT
DTSTART:20220313T070000
END:DAYLIGHT
BEGIN:STANDARD
TZOFFSETFROM:-0400
TZOFFSETTO:-0500
TZNAME:EST
DTSTART:20221106T060000
END:STANDARD
BEGIN:DAYLIGHT
TZOFFSETFROM:-0500
TZOFFSETTO:-0400
TZNAME:EDT
DTSTART:20230312T070000
END:DAYLIGHT
BEGIN:STANDARD
TZOFFSETFROM:-0400
TZOFFSETTO:-0500
TZNAME:EST
DTSTART:20231105T060000
END:STANDARD
BEGIN:DAYLIGHT
TZOFFSETFROM:-0500
TZOFFSETTO:-0400
TZNAME:EDT
DTSTART:20240310T070000
END:DAYLIGHT
BEGIN:STANDARD
TZOFFSETFROM:-0400
TZOFFSETTO:-0500
TZNAME:EST
DTSTART:20241103T060000
END:STANDARD
BEGIN:DAYLIGHT
TZOFFSETFROM:-0500
TZOFFSETTO:-0400
TZNAME:EDT
DTSTART:20250309T070000
END:DAYLIGHT
BEGIN:STANDARD
TZOFFSETFROM:-0400
TZOFFSETTO:-0500
TZNAME:EST
DTSTART:20251102T060000
END:STANDARD
END:VTIMEZONE
BEGIN:VEVENT
DTSTART;TZID=America/New_York:20240902T130000
DTEND;TZID=America/New_York:20240902T173000
DTSTAMP:20260423T151836
CREATED:20240818T044417Z
LAST-MODIFIED:20240818T044424Z
UID:10000058-1725282000-1725298200@www.tarangini.org
SUMMARY:Ganesha Chaturthi - Clay Idol Childrens Workshop
DESCRIPTION:@ Sai Baba Temple of Greater Cincinnati
URL:https://www.tarangini.org/event/ganesha-chaturthi-clay-idol-childrens-workshop/
END:VEVENT
BEGIN:VEVENT
DTSTART;TZID=America/New_York:20240804T120000
DTEND;TZID=America/New_York:20240804T170000
DTSTAMP:20260423T151836
CREATED:20240514T032114Z
LAST-MODIFIED:20240717T032244Z
UID:10000053-1722772800-1722790800@www.tarangini.org
SUMMARY:Members only Picinic
DESCRIPTION:
URL:https://www.tarangini.org/event/members-only-picinic/
END:VEVENT
BEGIN:VEVENT
DTSTART;TZID=America/New_York:20240713T080000
DTEND;TZID=America/New_York:20240713T170000
DTSTAMP:20260423T151836
CREATED:20240514T032301Z
LAST-MODIFIED:20240712T030705Z
UID:10000054-1720857600-1720890000@www.tarangini.org
SUMMARY:Summer - Cricket
DESCRIPTION:Members only Cricket Tournament
URL:https://www.tarangini.org/event/summer-cricket/
END:VEVENT
BEGIN:VEVENT
DTSTART;TZID=America/New_York:20240531T080000
DTEND;TZID=America/New_York:20240531T170000
DTSTAMP:20260423T151836
CREATED:20240514T031852Z
LAST-MODIFIED:20240514T031856Z
UID:10000052-1717142400-1717174800@www.tarangini.org
SUMMARY:Summer Sports - Tennies
DESCRIPTION:
URL:https://www.tarangini.org/event/summer-sports-tennies/
END:VEVENT
BEGIN:VEVENT
DTSTART;TZID=America/New_York:20240420T090000
DTEND;TZID=America/New_York:20240420T150000
DTSTAMP:20260423T151836
CREATED:20240320T143828Z
LAST-MODIFIED:20240416T140037Z
UID:10000051-1713603600-1713625200@www.tarangini.org
SUMMARY:Sri Sita Ramula Kalyanam
DESCRIPTION:@Hindu Temple of Greater Cincinnati
URL:https://www.tarangini.org/event/sri-sita-ramula-kalyanam-2/
LOCATION:Hindu Temple of Greater Cincinnati\, 720 Barg Salt Run Rd\, Cincinnati\, OH 45244
END:VEVENT
BEGIN:VEVENT
DTSTART;TZID=America/New_York:20240413T130000
DTEND;TZID=America/New_York:20240413T210000
DTSTAMP:20260423T151836
CREATED:20240111T022856Z
LAST-MODIFIED:20240320T155547Z
UID:10000049-1713013200-1713042000@www.tarangini.org
SUMMARY:Ugadi Utsavalu
DESCRIPTION:
URL:https://www.tarangini.org/event/ugadi-utsavalu-2/
LOCATION:Matthews Auditorium\, 150 Viking Way\, Cincinnati\, Ohio\, United States
END:VEVENT
BEGIN:VEVENT
DTSTART;TZID=America/New_York:20240302T180000
DTEND;TZID=America/New_York:20240302T230000
DTSTAMP:20260423T151836
CREATED:20240206T133336Z
LAST-MODIFIED:20240206T133343Z
UID:10000050-1709402400-1709420400@www.tarangini.org
SUMMARY:Ladies Night
DESCRIPTION:
URL:https://www.tarangini.org/event/ladies-night/
LOCATION:Heritage Presbyterian Church\, 6546 Mason Montgomery Rd\, Mason\, Ohio\, 45069\, United States
END:VEVENT
BEGIN:VEVENT
DTSTART;TZID=America/New_York:20231104T130000
DTEND;TZID=America/New_York:20231104T210000
DTSTAMP:20260423T151836
CREATED:20230830T001553Z
LAST-MODIFIED:20230918T182140Z
UID:10000046-1699102800-1699131600@www.tarangini.org
SUMMARY:Deepavali Utsavalu
DESCRIPTION:
URL:https://www.tarangini.org/event/deepavali-utsavalu/
LOCATION:Mason high school Auditorium\, 6100 Mason Montgomery Rd\, Mason\, Ohio\, 45040\, United States
END:VEVENT
BEGIN:VEVENT
DTSTART;TZID=America/New_York:20231022T093000
DTEND;TZID=America/New_York:20231022T130000
DTSTAMP:20260423T151836
CREATED:20231018T003421Z
LAST-MODIFIED:20231018T003425Z
UID:10000048-1697967000-1697979600@www.tarangini.org
SUMMARY:Members only Cricket Tournament
DESCRIPTION:By Signup only – http://tarangini.net/cricket \n\n\n\nGet ready to swing your bat and field like a pro because our exciting Community Members-Only Cricket Tournament is just around the corner! \n\n\n\nDate: October 22nd\, 2023 Time: 9:30 AM \n\n\n\nThis is your chance to showcase your cricket skills\, engage with fellow community members\, and enjoy a day filled with fun and competition. Whether you’re a seasoned cricketer or a beginner\, everyone is welcome to participate. \n\n\n\nEvent Details: \n\n\n\n\nDate: October 22nd\, 2023\n\n\n\nTime: 9:30 AM\n\n\n\nLocation: Heritage Oak Park\, 4601 US-42\, Mason\, OH\n\n\n\nRegistration Fee: Free for members\n\n\n\nTeams: Announced by 20th based on sign ups
URL:https://www.tarangini.org/event/members-only-cricket-tournament/
LOCATION:Heritage Oak Park\, 4601 US-42\, Mason\, OH\, 45040
END:VEVENT
BEGIN:VEVENT
DTSTART;TZID=America/New_York:20231022T020000
DTEND;TZID=America/New_York:20231022T200000
DTSTAMP:20260423T151836
CREATED:20231003T041553Z
LAST-MODIFIED:20231003T041559Z
UID:10000047-1697940000-1698004800@www.tarangini.org
SUMMARY:Bathukamma Utsavalu
DESCRIPTION:
URL:https://www.tarangini.org/event/bathukamma-utsavalu/
LOCATION:Sri SaiBaba Temple of Greater Cincinnati\, 723 Western Row Rd\, Mason\, OH\, 45040
END:VEVENT
BEGIN:VEVENT
DTSTART;TZID=America/New_York:20230917T133000
DTEND;TZID=America/New_York:20230917T173000
DTSTAMP:20260423T151836
CREATED:20230830T001331Z
LAST-MODIFIED:20230830T001335Z
UID:10000045-1694957400-1694971800@www.tarangini.org
SUMMARY:Ganesha Idol Making Workshop for Kids
DESCRIPTION:Welcome Ganesha to your home this 2023 by creating your own clay Ganesha idol. \n\n\n\nBring your kids to this workshop to learn the art of eco-friendly idol making and share with them the joy of creation as a community. \n\n\n\nSunday\, September 17th\, 1:00 PM to 5:30 PM \n\n\n\nhttp://tarangini.net/workshop (select a time slot) \n\n\n\n$8 for each kid \n\n\n\nWe will provide materials\, snacks and a drink for each participating kid
URL:https://www.tarangini.org/event/ganesha-idol-making-workshop-for-kids/
LOCATION:Sri SaiBaba Temple of Greater Cincinnati\, 723 Western Row Rd\, Mason\, OH\, 45040
END:VEVENT
BEGIN:VEVENT
DTSTART;TZID=America/New_York:20230806T120000
DTEND;TZID=America/New_York:20230806T170000
DTSTAMP:20260423T151836
CREATED:20230716T130629Z
LAST-MODIFIED:20230716T130634Z
UID:10000043-1691323200-1691341200@www.tarangini.org
SUMMARY:Vanabhojanalu
DESCRIPTION:
URL:https://www.tarangini.org/event/vanabhojanalu/
LOCATION:armco park\, 1223 OH-741\, Lebanon\, ohio\, 45036
END:VEVENT
BEGIN:VEVENT
DTSTART;TZID=America/New_York:20230729T143000
DTEND;TZID=America/New_York:20230729T153000
DTSTAMP:20260423T151836
CREATED:20230717T154417Z
LAST-MODIFIED:20230717T202736Z
UID:10000044-1690641000-1690644600@www.tarangini.org
SUMMARY:TARANGiNi Patasala Open House
DESCRIPTION:Detailed orientation on our Telugu Patasala curriculum at Open House \n\n\n\nRegistrations are open for 2023-24 academic year
URL:https://www.tarangini.org/event/tarangini-patasala-open-house/
LOCATION:Mason Math Squared\, 5142 Cedar Village Dr\, Mason\, OHIO\, 45040
END:VEVENT
BEGIN:VEVENT
DTSTART;TZID=America/New_York:20230514T130000
DTEND;TZID=America/New_York:20230514T210000
DTSTAMP:20260423T151836
CREATED:20230309T010310Z
LAST-MODIFIED:20230418T025420Z
UID:10000041-1684069200-1684098000@www.tarangini.org
SUMMARY:Ugadi Utsavalu
DESCRIPTION:
URL:https://www.tarangini.org/event/ugadi-utsavalu/
LOCATION:Mason high school Auditorium\, 6100 Mason Montgomery Rd\, Mason\, Ohio\, 45040\, United States
END:VEVENT
BEGIN:VEVENT
DTSTART;TZID=America/New_York:20230402T100000
DTEND;TZID=America/New_York:20230402T130000
DTSTAMP:20260423T151836
CREATED:20230309T010500Z
LAST-MODIFIED:20230309T010504Z
UID:10000042-1680429600-1680440400@www.tarangini.org
SUMMARY:Sri Sita Ramula Kalyanam
DESCRIPTION:
URL:https://www.tarangini.org/event/sri-sita-ramula-kalyanam/
LOCATION:Hindu Temple of Greater Cinicnnati\, 720 Barg Salt Run Rd\, Cincinnati\, OH\, 45244
END:VEVENT
BEGIN:VEVENT
DTSTART;TZID=America/New_York:20230225T180000
DTEND;TZID=America/New_York:20230225T230000
DTSTAMP:20260423T151836
CREATED:20230108T171307Z
LAST-MODIFIED:20230120T215517Z
UID:10000040-1677348000-1677366000@www.tarangini.org
SUMMARY:Ladies Night
DESCRIPTION:Member Price$25$20/ entry
URL:https://www.tarangini.org/event/ladies-night-2023/
LOCATION:Heritage Presbyterian Church\, 6546 Mason Montgomery Rd\, Mason\, Ohio\, 45069\, United States
END:VEVENT
BEGIN:VEVENT
DTSTART;TZID=America/New_York:20221204T133000
DTEND;TZID=America/New_York:20221204T210000
DTSTAMP:20260423T151836
CREATED:20220628T030812Z
LAST-MODIFIED:20221110T035848Z
UID:10000034-1670160600-1670187600@www.tarangini.org
SUMMARY:Diwali Celebrations
DESCRIPTION:TARANGiNi cordially invites you all to grace the event to enjoy an evening of enchanting cultural programs & ethnic Indian food.
URL:https://www.tarangini.org/event/bathukamma-celebrations/
LOCATION:Mason high school Auditorium\, 6100 Mason Montgomery Rd\, Mason\, Ohio\, 45040\, United States
END:VEVENT
BEGIN:VEVENT
DTSTART;TZID=America/New_York:20221022T090000
DTEND;TZID=America/New_York:20221022T170000
DTSTAMP:20260423T151836
CREATED:20220927T023146Z
LAST-MODIFIED:20220927T023150Z
UID:10000039-1666429200-1666458000@www.tarangini.org
SUMMARY:Tennis Tournament
DESCRIPTION:Mason School Tennis Courts
URL:https://www.tarangini.org/event/tennis-tournament/
LOCATION:Mason Middle School Tennis Courts\, 6370 Mason Montgomery Rd\, Mason\, Ohio\, 45040\, United States
END:VEVENT
BEGIN:VEVENT
DTSTART;TZID=America/New_York:20221002T140000
DTEND;TZID=America/New_York:20221002T200000
DTSTAMP:20260423T151836
CREATED:20220628T031334Z
LAST-MODIFIED:20220918T224909Z
UID:10000035-1664719200-1664740800@www.tarangini.org
SUMMARY:Bathukamma Celebrations
DESCRIPTION:ప్రాంతమేదైనా కలిసికట్టుగా చేసుకునే పండుగలో సంబరమొకటే! ఆ సంబరం అంబరమంటేలా పండుగ జరుపుకోవటానికి తెలుగువారందరికీ స్వాగతం !
URL:https://www.tarangini.org/event/bathukamma-celebrations-2/
END:VEVENT
BEGIN:VEVENT
DTSTART;TZID=America/New_York:20221002T080000
DTEND;TZID=America/New_York:20221002T120000
DTSTAMP:20260423T151836
CREATED:20220628T031902Z
LAST-MODIFIED:20220918T225002Z
UID:10000036-1664697600-1664712000@www.tarangini.org
SUMMARY:Tarangini Members Cricket Tournament
DESCRIPTION:A seriously fun filled cricket tournament for cricket enthusiastic Tarangini members. Must be a member to participate. \n\n\n\nTrophies for all the winning team members and best player of the tournament award
URL:https://www.tarangini.org/event/tarangini-members-cricket-tournament/
LOCATION:Heritage Oak Park\, 4601 US-42\, Mason\, OH\, 45040
END:VEVENT
BEGIN:VEVENT
DTSTART;TZID=America/New_York:20220904T180000
DTEND;TZID=America/New_York:20220904T200000
DTSTAMP:20260423T151836
CREATED:20220630T022503Z
LAST-MODIFIED:20220630T022506Z
UID:10000037-1662314400-1662321600@www.tarangini.org
SUMMARY:Vinayaka Nimajjanam
DESCRIPTION:
URL:https://www.tarangini.org/event/vinayaka-nimajjanam/
LOCATION:Sri SaiBaba Temple of Greater Cincinnati\, 723 Western Row Rd\, Mason\, OH\, 45040
END:VEVENT
BEGIN:VEVENT
DTSTART;TZID=America/New_York:20220830T093000
DTEND;TZID=America/New_York:20220903T180000
DTSTAMP:20260423T151836
CREATED:20220630T022924Z
LAST-MODIFIED:20220630T022928Z
UID:10000038-1661851800-1662228000@www.tarangini.org
SUMMARY:Vinayaka Chavithi Puja
DESCRIPTION:
URL:https://www.tarangini.org/event/vinayaka-chavithi-puja/
LOCATION:Sri SaiBaba Temple of Greater Cincinnati\, 723 Western Row Rd\, Mason\, OH\, 45040
END:VEVENT
BEGIN:VEVENT
DTSTART;TZID=America/New_York:20220828T130000
DTEND;TZID=America/New_York:20220828T170000
DTSTAMP:20260423T151836
CREATED:20220628T030229Z
LAST-MODIFIED:20220630T022119Z
UID:10000033-1661691600-1661706000@www.tarangini.org
SUMMARY:Vinayaka Chavithi Workshop
DESCRIPTION:
URL:https://www.tarangini.org/event/vinayaka-chavithi-workshop/
LOCATION:Sri SaiBaba Temple of Greater Cincinnati\, 723 Western Row Rd\, Mason\, OH\, 45040
END:VEVENT
BEGIN:VEVENT
DTSTART;TZID=America/New_York:20220807T110000
DTEND;TZID=America/New_York:20220807T170000
DTSTAMP:20260423T151836
CREATED:20220628T025349Z
LAST-MODIFIED:20220630T023608Z
UID:10000032-1659870000-1659891600@www.tarangini.org
SUMMARY:Tarangini Family Picnic
DESCRIPTION:Dear Tarangini families\, \n\n\n\nWe look forward to having you and your families join us in the annual Tarangini Picnic.  This is a free event for Tarangini members\, and we except all Tarangini family members to be there. The details are as follows: \n\n\n\nDate: Sunday Aug 7th 2022Timings: 11AM – 5PMVenue: Council Bluff ShelterAddress: Sharon Woods Park\, Sharonville\, OH 45241 \n\n\n\nRain or shine\, we will be hosting this picnic. We can’t wait to get together with you all to enjoy some delicious food and fun activities!
URL:https://www.tarangini.org/event/tarangini-family-picnic/
LOCATION:Sharon Woods Park\, Sharon Woods Dr\, Sharonville\, OH\, 45241\, United States
END:VEVENT
BEGIN:VEVENT
DTSTART;TZID=America/New_York:20200404T010000
DTEND;TZID=America/New_York:20200405T013000
DTSTAMP:20260423T151836
CREATED:20230418T025033Z
LAST-MODIFIED:20230418T025033Z
UID:10000031-1585962000-1586050200@www.tarangini.org
SUMMARY:Will/ Estate Planning Drive
DESCRIPTION:February 22 2020 at 8:00 am – 1:30 pm;  \n\n\n\nMarch 7 2020 at  8:00 am – 1:30 pm;  \n\n\n\nMarch 14 2020 at  8:00 am – 1:30 pm;  \n\n\n\nMarch 28th 2020 at  8:00 am – 1:30 pm;  \n\n\n\nApril 11th 2020 at  8:00 am – 1:30 pm;  \n\n\n\nApril 18th 2020 at  8:00 am – 1:30 pm;  \n\n\n\n May 2nd 2020 at  8:00 am – 1:30 pm;  \n\n\n\nMay 9th 2020 at  8:00 am – 1:30 pm;
URL:https://www.tarangini.org/event/will-estate-planning-drive/2020-04-04/
END:VEVENT
BEGIN:VEVENT
DTSTART;TZID=America/New_York:20200328T010000
DTEND;TZID=America/New_York:20200329T013000
DTSTAMP:20260423T151836
CREATED:20230418T025033Z
LAST-MODIFIED:20230418T025033Z
UID:10000030-1585357200-1585445400@www.tarangini.org
SUMMARY:Will/ Estate Planning Drive
DESCRIPTION:February 22 2020 at 8:00 am – 1:30 pm;  \n\n\n\nMarch 7 2020 at  8:00 am – 1:30 pm;  \n\n\n\nMarch 14 2020 at  8:00 am – 1:30 pm;  \n\n\n\nMarch 28th 2020 at  8:00 am – 1:30 pm;  \n\n\n\nApril 11th 2020 at  8:00 am – 1:30 pm;  \n\n\n\nApril 18th 2020 at  8:00 am – 1:30 pm;  \n\n\n\n May 2nd 2020 at  8:00 am – 1:30 pm;  \n\n\n\nMay 9th 2020 at  8:00 am – 1:30 pm;
URL:https://www.tarangini.org/event/will-estate-planning-drive/2020-03-28/
END:VEVENT
BEGIN:VEVENT
DTSTART;TZID=America/New_York:20200321T010000
DTEND;TZID=America/New_York:20200322T013000
DTSTAMP:20260423T151836
CREATED:20230418T025033Z
LAST-MODIFIED:20230418T025033Z
UID:10000029-1584752400-1584840600@www.tarangini.org
SUMMARY:Will/ Estate Planning Drive
DESCRIPTION:February 22 2020 at 8:00 am – 1:30 pm;  \n\n\n\nMarch 7 2020 at  8:00 am – 1:30 pm;  \n\n\n\nMarch 14 2020 at  8:00 am – 1:30 pm;  \n\n\n\nMarch 28th 2020 at  8:00 am – 1:30 pm;  \n\n\n\nApril 11th 2020 at  8:00 am – 1:30 pm;  \n\n\n\nApril 18th 2020 at  8:00 am – 1:30 pm;  \n\n\n\n May 2nd 2020 at  8:00 am – 1:30 pm;  \n\n\n\nMay 9th 2020 at  8:00 am – 1:30 pm;
URL:https://www.tarangini.org/event/will-estate-planning-drive/2020-03-21/
END:VEVENT
BEGIN:VEVENT
DTSTART;TZID=America/New_York:20200314T010000
DTEND;TZID=America/New_York:20200315T013000
DTSTAMP:20260423T151836
CREATED:20230418T025033Z
LAST-MODIFIED:20230418T025033Z
UID:10000028-1584147600-1584235800@www.tarangini.org
SUMMARY:Will/ Estate Planning Drive
DESCRIPTION:February 22 2020 at 8:00 am – 1:30 pm;  \n\n\n\nMarch 7 2020 at  8:00 am – 1:30 pm;  \n\n\n\nMarch 14 2020 at  8:00 am – 1:30 pm;  \n\n\n\nMarch 28th 2020 at  8:00 am – 1:30 pm;  \n\n\n\nApril 11th 2020 at  8:00 am – 1:30 pm;  \n\n\n\nApril 18th 2020 at  8:00 am – 1:30 pm;  \n\n\n\n May 2nd 2020 at  8:00 am – 1:30 pm;  \n\n\n\nMay 9th 2020 at  8:00 am – 1:30 pm;
URL:https://www.tarangini.org/event/will-estate-planning-drive/2020-03-14/
END:VEVENT
BEGIN:VEVENT
DTSTART;TZID=America/New_York:20200307T010000
DTEND;TZID=America/New_York:20200308T013000
DTSTAMP:20260423T151836
CREATED:20230418T025033Z
LAST-MODIFIED:20230418T025033Z
UID:10000027-1583542800-1583631000@www.tarangini.org
SUMMARY:Will/ Estate Planning Drive
DESCRIPTION:February 22 2020 at 8:00 am – 1:30 pm;  \n\n\n\nMarch 7 2020 at  8:00 am – 1:30 pm;  \n\n\n\nMarch 14 2020 at  8:00 am – 1:30 pm;  \n\n\n\nMarch 28th 2020 at  8:00 am – 1:30 pm;  \n\n\n\nApril 11th 2020 at  8:00 am – 1:30 pm;  \n\n\n\nApril 18th 2020 at  8:00 am – 1:30 pm;  \n\n\n\n May 2nd 2020 at  8:00 am – 1:30 pm;  \n\n\n\nMay 9th 2020 at  8:00 am – 1:30 pm;
URL:https://www.tarangini.org/event/will-estate-planning-drive/2020-03-07/
END:VEVENT
BEGIN:VEVENT
DTSTART;TZID=America/New_York:20200305T080000
DTEND;TZID=America/New_York:20200305T133000
DTSTAMP:20260423T151836
CREATED:20200204T005359Z
LAST-MODIFIED:20200204T005421Z
UID:10000025-1583395200-1583415000@www.tarangini.org
SUMMARY:Will/ Estate Planning Drive
DESCRIPTION:February 22 2020 at 8:00 am – 1:30 pm;  \n\n\n\nMarch 7 2020 at  8:00 am – 1:30 pm;  \n\n\n\nMarch 14 2020 at  8:00 am – 1:30 pm;  \n\n\n\nMarch 28th 2020 at  8:00 am – 1:30 pm;  \n\n\n\nApril 11th 2020 at  8:00 am – 1:30 pm;  \n\n\n\nApril 18th 2020 at  8:00 am – 1:30 pm;  \n\n\n\n May 2nd 2020 at  8:00 am – 1:30 pm;  \n\n\n\nMay 9th 2020 at  8:00 am – 1:30 pm;
URL:https://www.tarangini.org/event/will-estate-planning-drive/2020-03-05/
END:VEVENT
END:VCALENDAR