BEGIN:VCALENDAR
VERSION:2.0
PRODID:-//Tarangini - ECPv6.15.20//NONSGML v1.0//EN
CALSCALE:GREGORIAN
METHOD:PUBLISH
X-ORIGINAL-URL:https://www.tarangini.org
X-WR-CALDESC:Events for Tarangini
REFRESH-INTERVAL;VALUE=DURATION:PT1H
X-Robots-Tag:noindex
X-PUBLISHED-TTL:PT1H
BEGIN:VTIMEZONE
TZID:America/New_York
BEGIN:DAYLIGHT
TZOFFSETFROM:-0500
TZOFFSETTO:-0400
TZNAME:EDT
DTSTART:20180311T070000
END:DAYLIGHT
BEGIN:STANDARD
TZOFFSETFROM:-0400
TZOFFSETTO:-0500
TZNAME:EST
DTSTART:20181104T060000
END:STANDARD
BEGIN:DAYLIGHT
TZOFFSETFROM:-0500
TZOFFSETTO:-0400
TZNAME:EDT
DTSTART:20190310T070000
END:DAYLIGHT
BEGIN:STANDARD
TZOFFSETFROM:-0400
TZOFFSETTO:-0500
TZNAME:EST
DTSTART:20191103T060000
END:STANDARD
BEGIN:DAYLIGHT
TZOFFSETFROM:-0500
TZOFFSETTO:-0400
TZNAME:EDT
DTSTART:20200308T070000
END:DAYLIGHT
BEGIN:STANDARD
TZOFFSETFROM:-0400
TZOFFSETTO:-0500
TZNAME:EST
DTSTART:20201101T060000
END:STANDARD
END:VTIMEZONE
BEGIN:VEVENT
DTSTART;TZID=America/New_York:20190921T080000
DTEND;TZID=America/New_York:20190921T170000
DTSTAMP:20260424T071946
CREATED:20190310T225440Z
LAST-MODIFIED:20190921T011341Z
UID:10000009-1569052800-1569085200@www.tarangini.org
SUMMARY:2019 Tennis
DESCRIPTION:PLEASE NOTE\n\n\n\nDue to unavoidable circumstances Tarangini Tennis Tournament will now be held at Heritage Oak Park’s Tennis courts in Mason. Matches will begin at 8am. \n\n\n\nAddress for Heritage Oak Park is: 4601 US-42\, Mason\, OH 45040 \n\n\n\nRegister for Tennis
URL:https://www.tarangini.org/event/2019-tennis/
LOCATION:Heritage Oak Park\, 4601 US-42\, Mason\, Ohio\, 45040\, United States
CATEGORIES:featured,Sports
ATTACH;FMTTYPE=image/png:https://www.tarangini.org/wp-content/uploads/2019/03/tennis-1.png
END:VEVENT
END:VCALENDAR