BEGIN:VCALENDAR
VERSION:2.0
PRODID:-//Tarangini - ECPv6.15.20//NONSGML v1.0//EN
CALSCALE:GREGORIAN
METHOD:PUBLISH
X-ORIGINAL-URL:https://www.tarangini.org
X-WR-CALDESC:Events for Tarangini
REFRESH-INTERVAL;VALUE=DURATION:PT1H
X-Robots-Tag:noindex
X-PUBLISHED-TTL:PT1H
BEGIN:VTIMEZONE
TZID:America/New_York
BEGIN:DAYLIGHT
TZOFFSETFROM:-0500
TZOFFSETTO:-0400
TZNAME:EDT
DTSTART:20180311T070000
END:DAYLIGHT
BEGIN:STANDARD
TZOFFSETFROM:-0400
TZOFFSETTO:-0500
TZNAME:EST
DTSTART:20181104T060000
END:STANDARD
BEGIN:DAYLIGHT
TZOFFSETFROM:-0500
TZOFFSETTO:-0400
TZNAME:EDT
DTSTART:20190310T070000
END:DAYLIGHT
BEGIN:STANDARD
TZOFFSETFROM:-0400
TZOFFSETTO:-0500
TZNAME:EST
DTSTART:20191103T060000
END:STANDARD
BEGIN:DAYLIGHT
TZOFFSETFROM:-0500
TZOFFSETTO:-0400
TZNAME:EDT
DTSTART:20200308T070000
END:DAYLIGHT
BEGIN:STANDARD
TZOFFSETFROM:-0400
TZOFFSETTO:-0500
TZNAME:EST
DTSTART:20201101T060000
END:STANDARD
BEGIN:DAYLIGHT
TZOFFSETFROM:-0500
TZOFFSETTO:-0400
TZNAME:EDT
DTSTART:20210314T070000
END:DAYLIGHT
BEGIN:STANDARD
TZOFFSETFROM:-0400
TZOFFSETTO:-0500
TZNAME:EST
DTSTART:20211107T060000
END:STANDARD
BEGIN:DAYLIGHT
TZOFFSETFROM:-0500
TZOFFSETTO:-0400
TZNAME:EDT
DTSTART:20220313T070000
END:DAYLIGHT
BEGIN:STANDARD
TZOFFSETFROM:-0400
TZOFFSETTO:-0500
TZNAME:EST
DTSTART:20221106T060000
END:STANDARD
BEGIN:DAYLIGHT
TZOFFSETFROM:-0500
TZOFFSETTO:-0400
TZNAME:EDT
DTSTART:20230312T070000
END:DAYLIGHT
BEGIN:STANDARD
TZOFFSETFROM:-0400
TZOFFSETTO:-0500
TZNAME:EST
DTSTART:20231105T060000
END:STANDARD
BEGIN:DAYLIGHT
TZOFFSETFROM:-0500
TZOFFSETTO:-0400
TZNAME:EDT
DTSTART:20240310T070000
END:DAYLIGHT
BEGIN:STANDARD
TZOFFSETFROM:-0400
TZOFFSETTO:-0500
TZNAME:EST
DTSTART:20241103T060000
END:STANDARD
END:VTIMEZONE
BEGIN:VEVENT
DTSTART;TZID=America/New_York:20231022T020000
DTEND;TZID=America/New_York:20231022T200000
DTSTAMP:20260423T233507
CREATED:20231003T041553Z
LAST-MODIFIED:20231003T041559Z
UID:10000047-1697940000-1698004800@www.tarangini.org
SUMMARY:Bathukamma Utsavalu
DESCRIPTION:
URL:https://www.tarangini.org/event/bathukamma-utsavalu/
LOCATION:Sri SaiBaba Temple of Greater Cincinnati\, 723 Western Row Rd\, Mason\, OH\, 45040
END:VEVENT
BEGIN:VEVENT
DTSTART;TZID=America/New_York:20230917T133000
DTEND;TZID=America/New_York:20230917T173000
DTSTAMP:20260423T233507
CREATED:20230830T001331Z
LAST-MODIFIED:20230830T001335Z
UID:10000045-1694957400-1694971800@www.tarangini.org
SUMMARY:Ganesha Idol Making Workshop for Kids
DESCRIPTION:Welcome Ganesha to your home this 2023 by creating your own clay Ganesha idol. \n\n\n\nBring your kids to this workshop to learn the art of eco-friendly idol making and share with them the joy of creation as a community. \n\n\n\nSunday\, September 17th\, 1:00 PM to 5:30 PM \n\n\n\nhttp://tarangini.net/workshop (select a time slot) \n\n\n\n$8 for each kid \n\n\n\nWe will provide materials\, snacks and a drink for each participating kid
URL:https://www.tarangini.org/event/ganesha-idol-making-workshop-for-kids/
LOCATION:Sri SaiBaba Temple of Greater Cincinnati\, 723 Western Row Rd\, Mason\, OH\, 45040
END:VEVENT
BEGIN:VEVENT
DTSTART;TZID=America/New_York:20220904T180000
DTEND;TZID=America/New_York:20220904T200000
DTSTAMP:20260423T233507
CREATED:20220630T022503Z
LAST-MODIFIED:20220630T022506Z
UID:10000037-1662314400-1662321600@www.tarangini.org
SUMMARY:Vinayaka Nimajjanam
DESCRIPTION:
URL:https://www.tarangini.org/event/vinayaka-nimajjanam/
LOCATION:Sri SaiBaba Temple of Greater Cincinnati\, 723 Western Row Rd\, Mason\, OH\, 45040
END:VEVENT
BEGIN:VEVENT
DTSTART;TZID=America/New_York:20220830T093000
DTEND;TZID=America/New_York:20220903T180000
DTSTAMP:20260423T233507
CREATED:20220630T022924Z
LAST-MODIFIED:20220630T022928Z
UID:10000038-1661851800-1662228000@www.tarangini.org
SUMMARY:Vinayaka Chavithi Puja
DESCRIPTION:
URL:https://www.tarangini.org/event/vinayaka-chavithi-puja/
LOCATION:Sri SaiBaba Temple of Greater Cincinnati\, 723 Western Row Rd\, Mason\, OH\, 45040
END:VEVENT
BEGIN:VEVENT
DTSTART;TZID=America/New_York:20220828T130000
DTEND;TZID=America/New_York:20220828T170000
DTSTAMP:20260423T233507
CREATED:20220628T030229Z
LAST-MODIFIED:20220630T022119Z
UID:10000033-1661691600-1661706000@www.tarangini.org
SUMMARY:Vinayaka Chavithi Workshop
DESCRIPTION:
URL:https://www.tarangini.org/event/vinayaka-chavithi-workshop/
LOCATION:Sri SaiBaba Temple of Greater Cincinnati\, 723 Western Row Rd\, Mason\, OH\, 45040
END:VEVENT
BEGIN:VEVENT
DTSTART;TZID=America/New_York:20190929T140000
DTEND;TZID=America/New_York:20190929T200000
DTSTAMP:20260423T233507
CREATED:20190310T225922Z
LAST-MODIFIED:20191006T190932Z
UID:10000011-1569765600-1569787200@www.tarangini.org
SUMMARY:2019 Bathukamma
DESCRIPTION:Bathukamma Photos\n\n\n\n\n\n \n\n\n\n\n\nFood Signup
URL:https://www.tarangini.org/event/2019-bathukamma/
LOCATION:Sri SaiBaba Temple of Greater Cincinnati\, 723 Western Row Rd\, Mason\, OH\, 45040
CATEGORIES:Cultural,Tarangini
ATTACH;FMTTYPE=image/jpeg:https://www.tarangini.org/wp-content/uploads/2019/09/v4.4-Bathukamma-1.jpg
END:VEVENT
BEGIN:VEVENT
DTSTART;TZID=America/New_York:20190908T100000
DTEND;TZID=America/New_York:20190908T140000
DTSTAMP:20260423T233507
CREATED:20190310T225720Z
LAST-MODIFIED:20190905T165038Z
UID:10000010-1567936800-1567951200@www.tarangini.org
SUMMARY:2019 Vinayaka Chavithi
DESCRIPTION:తరంగిణి నిర్వహిస్తున్న వినాయక చవితి సంబరాల్లొ బంధుమిత్ర సపరివారంగా పాల్గొని\, చిన్నారుల చేత వినాయకుడి పూజ చేయించి\, స్వామివారి తీర్థప్రసాదములు స్వీకరించి\, ఈ కార్యక్రమాన్ని  విజయవంతం చేయవలసిందిగా కోరుచున్నాము. \n\n\n\n\n\nKids Workshop\n\n\n\nSpecial Workshop for kids to make clay Ganesha idols on September 1st\, 10 am to 1:30pm \n\n\n\nJoin Kids Workshop\n\n\n\nSponsorship Levels\n\n\n\nAll sponsors will get a Puja Thali \n\n\n\nThali will contain haldi\, kumkum\, akshat\, apple/banana and flowers \n\n\n\n1) $501 – The Grand Sponsors (per family) – Grand sponsors will have the Abishekam and Archana done on all 6 days and also have the Ganesha Puja by children done.You will be given sesha vastraalu. \n\n\n\n2) $121 – One day Grand Sponsors (per family) – Grand sponsors will have the Abishekam and Archana done on Any 1 day and also have the Ganesha Puja by children done. \n\n\n\n3) $116 – Two day Abhishekam and Ganesha Puja by children (per family) – Any 2 days abhishekam and the Ganesha Puja by children. \n\n\n\n4) $51 – One day Abhishekam (per family) – Any 1 day abhishekam and the Ganesha Puja by children. \n\n\n\n5) $31 – Ganesha Pooja by children (per family – Ganesha puja performed by children.All the sponsors will also get a Pooja Thali. The Thali will contain Haldi\, Kumkum\, Akshat\, apple/banana and flowers. \n\n\n\nSponsor\n\n\n\nVolunteer for food and help\n\n\n\nWe are looking for several volunteers to handle various tasks before and on the day of the Ganesha Pooja. Without you we cannot do it! \n\n\n\nYour help makes a big difference in running the event smoothly. We need volunteers to help prepare food\, decorate the mandapam\, and manage Visarjan and the entire event. \n\n\n\nSignup for help & potluck
URL:https://www.tarangini.org/event/2019-vinayaka-chavithi/
LOCATION:Sri SaiBaba Temple of Greater Cincinnati\, 723 Western Row Rd\, Mason\, OH\, 45040
CATEGORIES:featured
ATTACH;FMTTYPE=image/jpeg:https://www.tarangini.org/wp-content/uploads/2019/03/v5-2019-Vinayaka-Chavithi-Telugu.jpg
END:VEVENT
END:VCALENDAR